BEGIN:VCALENDAR
VERSION:2.0
PRODID:https://github.com/derhansen/sf_event_mgt
METHOD:PUBLISH
BEGIN:VEVENT
UID:1598-536@www.psi.de
CLASS: PUBLIC
SUMMARY:CIGRE 2026
DESCRIPTION:CIGRE Paris is the world's leading international conference and
  exhibition for the joint development and exchange of knowledge in the fiel
 d of power systems.
LOCATION:Palais des Congrès
DTSTAMP:20260330T150353Z
DTSTART:20260823T133000Z
DTEND:20260828T160000Z
END:VEVENT
END:VCALENDAR
