BEGIN:VCALENDAR
VERSION:2.0
PRODID:https://github.com/derhansen/sf_event_mgt
METHOD:PUBLISH
BEGIN:VEVENT
UID:120-536@www.psi.de
CLASS: PUBLIC
SUMMARY:AIST - Digital Transformation Forum 2024
DESCRIPTION:Das AIST-Forum versammelt Experten der Stahlindustrie, um die d
 igitale Transformation, Sicherheitsprotokolle, vorausschauende Wartung und 
 KI-Anwendungen zu erkunden. PSI wird Einblicke dazu geben.
DTSTAMP:20240821T155138Z
DTSTART:20241007T220000Z
DTEND:20241009T215900Z
END:VEVENT
END:VCALENDAR
