BEGIN:VCALENDAR
VERSION:2.0
PRODID:https://github.com/derhansen/sf_event_mgt
METHOD:PUBLISH
BEGIN:VEVENT
UID:1596-536@www.psi.de
CLASS: PUBLIC
SUMMARY:BDEW Kongress 2026
DESCRIPTION:Zukunft der Energiewirtschaft: klima- neutral, resilient, bezah
 lbar. Der BDEW Kongress 2026 bietet Politik, Wirtschaft und Wissenschaft ei
 ne Plattform, um Balance, Planungssicherheit und verlässliches Wachstum zu 
 diskutieren. 
LOCATION:STATION Berlin
DTSTAMP:20260330T151526Z
DTSTART:20260610T060000Z
DTEND:20260611T130000Z
END:VEVENT
END:VCALENDAR
