BEGIN:VCALENDAR
VERSION:2.0
PRODID:https://github.com/derhansen/sf_event_mgt
METHOD:PUBLISH
BEGIN:VEVENT
UID:1365-536@www.psi.de
CLASS: PUBLIC
SUMMARY:E-world energy & water 2026
DESCRIPTION:Die E-world energy & water ist die Informationsplattform für di
 e Energiebranche und versammelt internationale Entscheider in Essen. Der PS
 I-Konzern ist mit umfassenden Softwarelösungen für die Energiewirtschaft au
 f der E-world 2026 vertreten.
LOCATION:Messe Essen
DTSTAMP:20260206T125804Z
DTSTART:20260210T080000Z
DTEND:20260212T170000Z
END:VEVENT
END:VCALENDAR
