BEGIN:VCALENDAR
VERSION:2.0
PRODID:https://github.com/derhansen/sf_event_mgt
METHOD:PUBLISH
BEGIN:VEVENT
UID:563-536@www.psi.de
CLASS: PUBLIC
SUMMARY:GITEX EUROPE
DESCRIPTION:Transform your business with Industrial AI: Auf der GITEX Europ
 e in Berlin präsentiert PSI innovative KI-basierte Softwarelösungen zur Opt
 imierung und intelligenten Steuerung industrieller Geschäftsprozesse.
LOCATION:Messe Berlin
DTSTAMP:20250506T111217Z
DTSTART:20250520T220100Z
DTEND:20250523T210000Z
END:VEVENT
END:VCALENDAR
