BEGIN:VCALENDAR
VERSION:2.0
PRODID:https://github.com/derhansen/sf_event_mgt
METHOD:PUBLISH
BEGIN:VEVENT
UID:1597-536@www.psi.de
CLASS: PUBLIC
SUMMARY:Powertage 2026
DESCRIPTION:Der führende Treffpunkt der Schweizer Stromwirtschaft: Die Fach
 veranstaltung rund um die Bereiche Energie, Netztechnik, Mess-/Zählerwesen 
 und IT-Lösungen für die Energiewirtschaft. 
LOCATION:Messe Zürich
DTSTAMP:20260330T123313Z
DTSTART:20260616T070000Z
DTEND:20260618T150000Z
END:VEVENT
END:VCALENDAR
