BEGIN:VCALENDAR
VERSION:2.0
PRODID:https://github.com/derhansen/sf_event_mgt
METHOD:PUBLISH
BEGIN:VEVENT
UID:833-536@www.psi.de
CLASS: PUBLIC
SUMMARY:Smart MES
DESCRIPTION:Die Smart MES ist die führende Business Plattform für Produktio
 nsleiter, Werkverantwortliche und Fertigungs-IT. 
LOCATION:Maritim proArte Hotel
DTSTAMP:20250429T124943Z
DTSTART:20250630T080000Z
DTEND:20250701T160000Z
END:VEVENT
END:VCALENDAR
