BEGIN:VCALENDAR
VERSION:2.0
PRODID:https://github.com/derhansen/sf_event_mgt
METHOD:PUBLISH
BEGIN:VEVENT
UID:434-536@www.psi.de
CLASS: PUBLIC
SUMMARY:VDI Wissensforum (KI-Konferenz)
DESCRIPTION:KI in der Produktion – Vom Hype zur Realität? Auf der VDI-Konfe
 renz präsentiert KI-Experte Dr. Rudolf Felix an Praxisbeispielen wie „KI-ba
 siertes Sequencing und Scheduling“ bereits heute industriell im produktiven
  Einsatz ist.
LOCATION:Parkhotel Stuttgart Messe-Airport
DTSTAMP:20250117T110446Z
DTSTART:20250225T230000Z
DTEND:20250226T225900Z
END:VEVENT
END:VCALENDAR
